BEGIN:VCALENDAR
VERSION:2.0
PRODID:-//85.13.147.204//NONSGML kigkonsult.se iCalcreator 2.20//
CALSCALE:GREGORIAN
METHOD:PUBLISH
X-WR-TIMEZONE:UTC
BEGIN:VEVENT
UID:event74@..:: Viertelpoet ::: rockig-frech lyrisch-liedhaft ::..
DTSTAMP:20260420T083002Z
CATEGORIES:Konzert
DESCRIPTION:Viertelpoetischer Lebenstraum\nKategorie: Konzert\nICS-Link: ht
 tps://www.viertelpoet.de/index.php?option=com_jem&view=event&id=74:viertel
 poetischer-lebenstraum\n
DTSTART:20140509T180000Z
DTEND:20140509T190000Z
LOCATION:Hallmarkt\,Hallmarkt\,06108 Halle
SUMMARY:Viertelpoetischer Lebenstraum
URL:https://www.viertelpoet.de/index.php?option=com_jem&view=event&id=74:vi
 ertelpoetischer-lebenstraum
END:VEVENT
END:VCALENDAR
